BEGIN:VCALENDAR
VERSION:2.0
CALSCALE:GREGORIAN
PRODID:adamgibbons/ics
METHOD:PUBLISH
X-PUBLISHED-TTL:PT1H
BEGIN:VEVENT
UID:10@calendar.floresmagonbctx.com
SUMMARY:Praierieland Defendants Community Dinner (Fundraiser)
DTSTAMP:20260423T120959Z
DTSTART:20260430T000000Z
DTEND:20260430T020000Z
DESCRIPTION:Join us Wednesday night for food & connection as we gather to s
	hare more about\nthe Prairieland case and where we are headed. In addition
	\, there will be a\ncharacter letter writing workshop for those that know 
	the defendants personally.\nCome support the Prairieland defendants facing
	 life-altering charges for a noise\ndemo in solidarity with ICE detainees.
	\n\nThe state wants to make us scared to connect & resist ICE\, so let's b
	reak bread\ntogether and strategize for the struggle going forward.\n\nWe 
	will share stories of defendants\, information about the case\, and ways n
	ew\nfolks can get involved.\n\nWe are asking for a $0-20 sliding scale don
	ation (but will accept any amount!).\nKids are welcome and there will be b
	oth vegan and gluten free options! See you\nthere!
URL:https://calendar.floresmagonbctx.com/event/praierieland-defendants-comm
	unity-dinner-fundraiser-1
LOCATION:All Peoples UU Church - 1959 Sandy Ln\, Fort Worth\, TX 76112
STATUS:CONFIRMED
CATEGORIES:dinner,fundraising
X-ALT-DESC;FMTTYPE=text/html:<p>Join us Wednesday night for food &amp; conn
	ection as we gather to share more about the Prairieland case and where we 
	are headed. In addition, there will be a character letter writing workshop
	 for those that know the defendants personally. Come support the Prairiela
	nd defendants facing life-altering charges for a noise demo in solidarity 
	with ICE detainees.</p><p>The state wants to make us scared to connect &am
	p; resist ICE, so let's break bread together and strategize for the strugg
	le going forward. </p><p>We will share stories of defendants, information 
	about the case, and ways new folks can get involved.</p><p><strong>We are 
	asking for a $0-20 sliding scale donation (but will accept any amount!). K
	ids are welcome and there will be both vegan and gluten free options! See 
	you there!</strong></p>
BEGIN:VALARM
ACTION:DISPLAY
DESCRIPTION:Praierieland Defendants Community Dinner (Fundraiser)
TRIGGER:-PT1H
END:VALARM
END:VEVENT
END:VCALENDAR
